BEGIN:VCALENDAR
VERSION:2.0
PRODID:-//English, Maths and Science Tuitions in Hounslow | Hayes | Uxbridge | Slough | Ealing | Oak Heights Tuition - ECPv6.0.9//NONSGML v1.0//EN
CALSCALE:GREGORIAN
METHOD:PUBLISH
X-WR-CALNAME:English, Maths and Science Tuitions in Hounslow | Hayes | Uxbridge | Slough | Ealing | Oak Heights Tuition
X-ORIGINAL-URL:https://www.oakheightstuition.com
X-WR-CALDESC:Events for English, Maths and Science Tuitions in Hounslow | Hayes | Uxbridge | Slough | Ealing | Oak Heights Tuition
REFRESH-INTERVAL;VALUE=DURATION:PT1H
X-Robots-Tag:noindex
X-PUBLISHED-TTL:PT1H
BEGIN:VTIMEZONE
TZID:UTC
BEGIN:STANDARD
TZOFFSETFROM:+0000
TZOFFSETTO:+0000
TZNAME:UTC
DTSTART:20160101T000000
END:STANDARD
END:VTIMEZONE
BEGIN:VEVENT
DTSTART;TZID=UTC:20160912T190000
DTEND;TZID=UTC:20160912T210000
DTSTAMP:20260421T232348
CREATED:20160609T095408Z
LAST-MODIFIED:20160609T095919Z
UID:1764-1473706800-1473714000@www.oakheightstuition.com
SUMMARY:Evening GCSE Maths Course
DESCRIPTION:COURSE NAME: GCSE Edexcel Mathematics: 1MA0 \nExam date: November 2016 – Resit’s only \nGrade Criteria for GCSE entrance Courses for November Sittings only\nMost students will have at least a grade D in GCSE Mathematics.\nStructured lessons will consists of past paper questions with solutions.\nOur experienced qualified teachers will conduct the lesson. \nAn assessment will be held at the end of the term to evaluate whether the student has learned the content in class before sitting the GCSE examinations.
URL:https://www.oakheightstuition.com/event/evening-gcse-maths-course/
LOCATION:oakheights\, xxxx\, xqxwx\, United Kingdom
END:VEVENT
BEGIN:VEVENT
DTSTART;TZID=UTC:20160910T100000
DTEND;TZID=UTC:20160910T120000
DTSTAMP:20260421T232348
CREATED:20160816T115739Z
LAST-MODIFIED:20160816T115739Z
UID:1844-1473501600-1473508800@www.oakheightstuition.com
SUMMARY:Tuition Centre in Hounslow reopens
DESCRIPTION:Oak Heights Tuition in Hounslow reopens its doors
URL:https://www.oakheightstuition.com/event/tuition-centre-in-hounslow-reopens/
LOCATION:Oak Heights\, 3 Red Lion court\, London\, Tw3 1JS\, United Kingdom
END:VEVENT
BEGIN:VEVENT
DTSTART;TZID=UTC:20160825T090000
DTEND;TZID=UTC:20160825T120000
DTSTAMP:20260421T232348
CREATED:20160817T130616Z
LAST-MODIFIED:20160817T130616Z
UID:1851-1472115600-1472126400@www.oakheightstuition.com
SUMMARY:GCSE and IGCSE results released
DESCRIPTION:GCSE and IGCSE results are released
URL:https://www.oakheightstuition.com/event/gcse-and-igcse-results-released/
END:VEVENT
BEGIN:VEVENT
DTSTART;TZID=UTC:20160818T090000
DTEND;TZID=UTC:20160818T120000
DTSTAMP:20260421T232348
CREATED:20160817T130500Z
LAST-MODIFIED:20160817T130500Z
UID:1850-1471510800-1471521600@www.oakheightstuition.com
SUMMARY:Alevel Results Released
DESCRIPTION:A Level results are released.
URL:https://www.oakheightstuition.com/event/alevel-results-released/
END:VEVENT
BEGIN:VEVENT
DTSTART;VALUE=DATE:20160420
DTEND;VALUE=DATE:20160421
DTSTAMP:20260421T232348
CREATED:20160411T134345Z
LAST-MODIFIED:20160411T134345Z
UID:1699-1461110400-1461196799@www.oakheightstuition.com
SUMMARY:test event
DESCRIPTION:test event
URL:https://www.oakheightstuition.com/event/test-event/
LOCATION:oakheights\, xxxx\, xqxwx\, United Kingdom
END:VEVENT
END:VCALENDAR